BEGIN:VCALENDAR
VERSION:2.0
PRODID:-//Beth Jusino - ECPv6.13.2.1//NONSGML v1.0//EN
CALSCALE:GREGORIAN
METHOD:PUBLISH
X-ORIGINAL-URL:https://bethjusino.com
X-WR-CALDESC:Events for Beth Jusino
REFRESH-INTERVAL;VALUE=DURATION:PT1H
X-Robots-Tag:noindex
X-PUBLISHED-TTL:PT1H
BEGIN:VTIMEZONE
TZID:UTC
BEGIN:STANDARD
TZOFFSETFROM:+0000
TZOFFSETTO:+0000
TZNAME:UTC
DTSTART:20250101T000000
END:STANDARD
END:VTIMEZONE
BEGIN:VEVENT
DTSTART;TZID=UTC:20250310T080000
DTEND;TZID=UTC:20250310T170000
DTSTAMP:20260423T150111
CREATED:20250310T004833Z
LAST-MODIFIED:20250310T004833Z
UID:2322-1741593600-1741626000@bethjusino.com
SUMMARY:Pitch Your Book So That Publishers Pay Attention
DESCRIPTION:Master your query letter and verbal pitch so you can break through the noise and get your project noticed. \nAgents are flooded with more queries and proposals than ever before\, even as publishers cut back the number of books they produce each year.\nThis is a chance to step back and look at your fiction or nonfiction work through fresh eyes. We’ll identify the things that make your project unique\, marketable\, and irresistible to publishing gatekeepers\, and then\, with examples and time for practice and feedback\, work on verbal “elevator pitches” and query letters.\nWe’ll take a look at the business of books\, including the different types of publishing companies\, what they offer\, and how to identify which houses are good fits for you and your project. We’ll dig into your work\, and\, after a working lunch break where you’ll have quiet time to work on your own pitch\, you’ll have the chance to share your project and get input from the instructor and the group.\nThis is also a valuable class for self-publishing writers who want to pitch their books so that readers pay attention. \nYou will: \n\nBe challenged to consider your work from a fresh\, detached\, commercial perspective.\nLearn how to condense full-length fiction and nonfiction projects into industry-appropriate synopses of one or two pages\, and identify the compelling “hooks” that make great verbal pitches and query letter descriptions.\nGain a realistic understanding of what publishers and agents are looking for in new authors\, including author platform\, compelling concept\, and connection to existing popular trends.\nCLICK HERE FOR REGISTRATION AND MORE INFORMATION
URL:https://bethjusino.com/event/pitch-your-book-so-that-publishers-pay-attention/
CATEGORIES:For Writers
ATTACH;FMTTYPE=image/png:https://bethjusino.com/wp-content/uploads/2021/03/Untitled-design-4.png
END:VEVENT
END:VCALENDAR